BEGIN:VCALENDAR
VERSION:2.0
PRODID:-//ical.marudot.com//iCal Event Maker
CALSCALE:GREGORIAN
BEGIN:VTIMEZONE
TZID:Europe/Vienna
LAST-MODIFIED:20250410T142247Z
TZURL:https://www.tzurl.org/zoneinfo-outlook/Europe/Vienna
X-LIC-LOCATION:Europe/Vienna
BEGIN:DAYLIGHT
TZNAME:CEST
TZOFFSETFROM:+0100
TZOFFSETTO:+0200
DTSTART:19700329T020000
RRULE:FREQ=YEARLY;BYMONTH=3;BYDAY=-1SU
END:DAYLIGHT
BEGIN:STANDARD
TZNAME:CET
TZOFFSETFROM:+0200
TZOFFSETTO:+0100
DTSTART:19701025T030000
RRULE:FREQ=YEARLY;BYMONTH=10;BYDAY=-1SU
END:STANDARD
END:VTIMEZONE
BEGIN:VEVENT
DTSTAMP:20260414T143336Z
UID:1776177071002-13522@ical.marudot.com
DTSTART;TZID=Europe/Vienna:20260506T180000
DTEND;TZID=Europe/Vienna:20260506T190000
SUMMARY:ZCH 2/26 Call 2
URL:https://us02web.zoom.us/j/88146416565
LOCATION:Online auf Zoom
BEGIN:VALARM
ACTION:DISPLAY
DESCRIPTION:ZCH 2/26 Call 2
TRIGGER:-PT1H
END:VALARM
END:VEVENT
END:VCALENDAR